BEGIN:VCALENDAR
VERSION:2.0
PRODID:-//AFD Oberbayern | Bezirksverband Oberbayern | Alternative für Deutschland - ECPv6.15.18//NONSGML v1.0//EN
CALSCALE:GREGORIAN
METHOD:PUBLISH
X-ORIGINAL-URL:https://afd-oberbayern.de
X-WR-CALDESC:Veranstaltungen für AFD Oberbayern | Bezirksverband Oberbayern | Alternative für Deutschland
REFRESH-INTERVAL;VALUE=DURATION:PT1H
X-Robots-Tag:noindex
X-PUBLISHED-TTL:PT1H
BEGIN:VTIMEZONE
TZID:Europe/Berlin
BEGIN:DAYLIGHT
TZOFFSETFROM:+0100
TZOFFSETTO:+0200
TZNAME:CEST
DTSTART:20240331T010000
END:DAYLIGHT
BEGIN:STANDARD
TZOFFSETFROM:+0200
TZOFFSETTO:+0100
TZNAME:CET
DTSTART:20241027T010000
END:STANDARD
BEGIN:DAYLIGHT
TZOFFSETFROM:+0100
TZOFFSETTO:+0200
TZNAME:CEST
DTSTART:20250330T010000
END:DAYLIGHT
BEGIN:STANDARD
TZOFFSETFROM:+0200
TZOFFSETTO:+0100
TZNAME:CET
DTSTART:20251026T010000
END:STANDARD
BEGIN:DAYLIGHT
TZOFFSETFROM:+0100
TZOFFSETTO:+0200
TZNAME:CEST
DTSTART:20260329T010000
END:DAYLIGHT
BEGIN:STANDARD
TZOFFSETFROM:+0200
TZOFFSETTO:+0100
TZNAME:CET
DTSTART:20261025T010000
END:STANDARD
END:VTIMEZONE
BEGIN:VEVENT
DTSTART;TZID=Europe/Berlin:20251129T080000
DTEND;TZID=Europe/Berlin:20251129T180000
DTSTAMP:20260424T223057
CREATED:20251129T070045Z
LAST-MODIFIED:20260129T094745Z
UID:24062-1764403200-1764439200@afd-oberbayern.de
SUMMARY:ESN-Fraktion: „Wie Brüssel uns das Leben schwer macht“ am 29.11.2025
DESCRIPTION:Stammtisch der ESN-Fraktion (Europa der souveränen Nationen) im EU-Parlament:\n„Wie uns Brüssel das Leben schwer macht“\, mit:\nMarkus Buchheit\, MdEP\nChristine Anderson\, MdEP\nChristoph Birghan\, MdB
URL:https://afd-oberbayern.de/veranstaltungen/esn-fraktion-wie-bruessel-uns-das-leben-schwer-macht-am-29-11-2025/
CATEGORIES:Veranstaltungen
ATTACH;FMTTYPE=image/jpeg:https://afd-oberbayern.de/wp-content/uploads/2025/11/ESN-29.11.-ED.jpg
END:VEVENT
END:VCALENDAR