BEGIN:VCALENDAR
VERSION:2.0
PRODID:-//AFD Oberbayern | Bezirksverband Oberbayern | Alternative für Deutschland - ECPv6.15.18//NONSGML v1.0//EN
CALSCALE:GREGORIAN
METHOD:PUBLISH
X-WR-CALNAME:AFD Oberbayern | Bezirksverband Oberbayern | Alternative für Deutschland
X-ORIGINAL-URL:https://afd-oberbayern.de
X-WR-CALDESC:Veranstaltungen für AFD Oberbayern | Bezirksverband Oberbayern | Alternative für Deutschland
REFRESH-INTERVAL;VALUE=DURATION:PT1H
X-Robots-Tag:noindex
X-PUBLISHED-TTL:PT1H
BEGIN:VTIMEZONE
TZID:Europe/Berlin
BEGIN:DAYLIGHT
TZOFFSETFROM:+0100
TZOFFSETTO:+0200
TZNAME:CEST
DTSTART:20240331T010000
END:DAYLIGHT
BEGIN:STANDARD
TZOFFSETFROM:+0200
TZOFFSETTO:+0100
TZNAME:CET
DTSTART:20241027T010000
END:STANDARD
BEGIN:DAYLIGHT
TZOFFSETFROM:+0100
TZOFFSETTO:+0200
TZNAME:CEST
DTSTART:20250330T010000
END:DAYLIGHT
BEGIN:STANDARD
TZOFFSETFROM:+0200
TZOFFSETTO:+0100
TZNAME:CET
DTSTART:20251026T010000
END:STANDARD
BEGIN:DAYLIGHT
TZOFFSETFROM:+0100
TZOFFSETTO:+0200
TZNAME:CEST
DTSTART:20260329T010000
END:DAYLIGHT
BEGIN:STANDARD
TZOFFSETFROM:+0200
TZOFFSETTO:+0100
TZNAME:CET
DTSTART:20261025T010000
END:STANDARD
END:VTIMEZONE
BEGIN:VEVENT
DTSTART;TZID=Europe/Berlin:20251208T080000
DTEND;TZID=Europe/Berlin:20251208T180000
DTSTAMP:20260424T195733
CREATED:20251208T070036Z
LAST-MODIFIED:20260129T094330Z
UID:24052-1765180800-1765216800@afd-oberbayern.de
SUMMARY:Filmabend „Die Feuerzangenbowle“ in Weilheim am 08.12.2025
DESCRIPTION:Filmabend des AfD-Kreisverbands Weilheim-Schongau: „Die Feuerzangenbowle“ – Heinz Rühmanns unsterbliche Komödie auf der großen Leinwand. \nWir tun das nicht trotz\, sondern gerade wegen der aktuellen Aberkennung der SPIO-Ehrenmedaille für Heinz Rühmann und andere Filmgrößen. Dieser Film ist ein Stück deutscher Filmgeschichte\, ein Publikumsliebling von gestern bis heute. Ein kulturelles Gut\, das sich nicht nachträglich „entwerten“ lässt\, nur weil manche heute glauben\, die Vergangenheit mit Symbolgesten bereinigen zu müssen. \nPassend zu dem Filmklassiker wird es vor Ort auch Feuerzangenbowle geben.\nAnschließend Gespräch in lockerer Runde mit Benjamin Nolte\, MdL über die linke „Cancel Culture“ und geeignete Gegenmaßnahmen.\nWir feiern mit dieser Vorführung die Freiheit des Lachens und die Kunst\, die über Ideologien steht.
URL:https://afd-oberbayern.de/veranstaltungen/filmabend-die-feuerzangenbowle-in-weilheim-am-08-12-2025/
CATEGORIES:Veranstaltungen
ATTACH;FMTTYPE=image/jpeg:https://afd-oberbayern.de/wp-content/uploads/2025/11/Feuerz.-08.12.jpg
END:VEVENT
END:VCALENDAR