BEGIN:VCALENDAR
VERSION:2.0
PRODID:-//AFD Oberbayern | Bezirksverband Oberbayern | Alternative für Deutschland - ECPv6.15.18//NONSGML v1.0//EN
CALSCALE:GREGORIAN
METHOD:PUBLISH
X-ORIGINAL-URL:https://afd-oberbayern.de
X-WR-CALDESC:Veranstaltungen für AFD Oberbayern | Bezirksverband Oberbayern | Alternative für Deutschland
REFRESH-INTERVAL;VALUE=DURATION:PT1H
X-Robots-Tag:noindex
X-PUBLISHED-TTL:PT1H
BEGIN:VTIMEZONE
TZID:Europe/Berlin
BEGIN:DAYLIGHT
TZOFFSETFROM:+0100
TZOFFSETTO:+0200
TZNAME:CEST
DTSTART:20250330T010000
END:DAYLIGHT
BEGIN:STANDARD
TZOFFSETFROM:+0200
TZOFFSETTO:+0100
TZNAME:CET
DTSTART:20251026T010000
END:STANDARD
BEGIN:DAYLIGHT
TZOFFSETFROM:+0100
TZOFFSETTO:+0200
TZNAME:CEST
DTSTART:20260329T010000
END:DAYLIGHT
BEGIN:STANDARD
TZOFFSETFROM:+0200
TZOFFSETTO:+0100
TZNAME:CET
DTSTART:20261025T010000
END:STANDARD
BEGIN:DAYLIGHT
TZOFFSETFROM:+0100
TZOFFSETTO:+0200
TZNAME:CEST
DTSTART:20270328T010000
END:DAYLIGHT
BEGIN:STANDARD
TZOFFSETFROM:+0200
TZOFFSETTO:+0100
TZNAME:CET
DTSTART:20271031T010000
END:STANDARD
END:VTIMEZONE
BEGIN:VEVENT
DTSTART;TZID=Europe/Berlin:20260306T120000
DTEND;TZID=Europe/Berlin:20260306T150000
DTSTAMP:20260424T160516
CREATED:20260308T001228Z
LAST-MODIFIED:20260308T001228Z
UID:24308-1772798400-1772809200@afd-oberbayern.de
SUMMARY:High Noon am Odeonsplatz - Wahlkampfabschluss der Münchner AfD-Kreisverbände
DESCRIPTION:High Noon am Odeonsplatz – Wahlkampfabschluss der Münchner AfD-Kreisverbände \nmit Markus Walbrunn\, MdL\, Oberbürgermeisterkandidat\nKatrin Ebner-Steiner\, MdL\, Vorsitzende der AfD-Landtagsfraktion\nPeter Boehringer\, MdB\, Stv. Bundessprecher\nPetr Bystron\, MdEP\nWolfgang Wiehle\, MdB\nTobias Teich\, MdB\nRené Dierkes\, MdL\n… und den Spitzenkandiadaten für den Münchner Stadtrat!
URL:https://afd-oberbayern.de/veranstaltungen/high-noon-am-odeonsplatz-wahlkampfabschluss-der-muenchner-afd-kreisverbaende/
CATEGORIES:Veranstaltungen
ATTACH;FMTTYPE=image/jpeg:https://afd-oberbayern.de/wp-content/uploads/2026/03/2026-03-07-Odeonsplatz.jpg
END:VEVENT
END:VCALENDAR