BEGIN:VCALENDAR
VERSION:2.0
PRODID:-//AFD Oberbayern | Bezirksverband Oberbayern | Alternative für Deutschland - ECPv6.15.18//NONSGML v1.0//EN
CALSCALE:GREGORIAN
METHOD:PUBLISH
X-ORIGINAL-URL:https://afd-oberbayern.de
X-WR-CALDESC:Veranstaltungen für AFD Oberbayern | Bezirksverband Oberbayern | Alternative für Deutschland
REFRESH-INTERVAL;VALUE=DURATION:PT1H
X-Robots-Tag:noindex
X-PUBLISHED-TTL:PT1H
BEGIN:VTIMEZONE
TZID:Europe/Berlin
BEGIN:DAYLIGHT
TZOFFSETFROM:+0100
TZOFFSETTO:+0200
TZNAME:CEST
DTSTART:20240331T010000
END:DAYLIGHT
BEGIN:STANDARD
TZOFFSETFROM:+0200
TZOFFSETTO:+0100
TZNAME:CET
DTSTART:20241027T010000
END:STANDARD
BEGIN:DAYLIGHT
TZOFFSETFROM:+0100
TZOFFSETTO:+0200
TZNAME:CEST
DTSTART:20250330T010000
END:DAYLIGHT
BEGIN:STANDARD
TZOFFSETFROM:+0200
TZOFFSETTO:+0100
TZNAME:CET
DTSTART:20251026T010000
END:STANDARD
BEGIN:DAYLIGHT
TZOFFSETFROM:+0100
TZOFFSETTO:+0200
TZNAME:CEST
DTSTART:20260329T010000
END:DAYLIGHT
BEGIN:STANDARD
TZOFFSETFROM:+0200
TZOFFSETTO:+0100
TZNAME:CET
DTSTART:20261025T010000
END:STANDARD
BEGIN:DAYLIGHT
TZOFFSETFROM:+0100
TZOFFSETTO:+0200
TZNAME:CEST
DTSTART:20270328T010000
END:DAYLIGHT
BEGIN:STANDARD
TZOFFSETFROM:+0200
TZOFFSETTO:+0100
TZNAME:CET
DTSTART:20271031T010000
END:STANDARD
END:VTIMEZONE
BEGIN:VEVENT
DTSTART;TZID=Europe/Berlin:20260306T120000
DTEND;TZID=Europe/Berlin:20260306T150000
DTSTAMP:20260424T132624
CREATED:20260308T001228Z
LAST-MODIFIED:20260308T001228Z
UID:24308-1772798400-1772809200@afd-oberbayern.de
SUMMARY:High Noon am Odeonsplatz - Wahlkampfabschluss der Münchner AfD-Kreisverbände
DESCRIPTION:High Noon am Odeonsplatz – Wahlkampfabschluss der Münchner AfD-Kreisverbände \nmit Markus Walbrunn\, MdL\, Oberbürgermeisterkandidat\nKatrin Ebner-Steiner\, MdL\, Vorsitzende der AfD-Landtagsfraktion\nPeter Boehringer\, MdB\, Stv. Bundessprecher\nPetr Bystron\, MdEP\nWolfgang Wiehle\, MdB\nTobias Teich\, MdB\nRené Dierkes\, MdL\n… und den Spitzenkandiadaten für den Münchner Stadtrat!
URL:https://afd-oberbayern.de/veranstaltungen/high-noon-am-odeonsplatz-wahlkampfabschluss-der-muenchner-afd-kreisverbaende/
CATEGORIES:Veranstaltungen
ATTACH;FMTTYPE=image/jpeg:https://afd-oberbayern.de/wp-content/uploads/2026/03/2026-03-07-Odeonsplatz.jpg
END:VEVENT
BEGIN:VEVENT
DTSTART;TZID=Europe/Berlin:20260303T000000
DTEND;TZID=Europe/Berlin:20260303T000000
DTSTAMP:20260424T132624
CREATED:20260308T000855Z
LAST-MODIFIED:20260308T000855Z
UID:24295-1772496000-1772496000@afd-oberbayern.de
SUMMARY:Diskussionsveranstaltung "Komm\, wir machen Miesbach blau!"
DESCRIPTION:Diskussionsveranstaltung des AfD-Kreisverbands Miesbach: „Komm\, wir machen Miesbach blau!“ \nmit Markus Buchheit\, MdEP\,\nMartin Simon\, Landratskandidat\, und\nProf. Dr. Ingo Hahn\, MdB
URL:https://afd-oberbayern.de/veranstaltungen/diskussionsveranstaltung-komm-wir-machen-miesbach-blau/
END:VEVENT
BEGIN:VEVENT
DTSTART;TZID=Europe/Berlin:20260302T190000
DTEND;TZID=Europe/Berlin:20260302T210000
DTSTAMP:20260424T132624
CREATED:20260307T235650Z
LAST-MODIFIED:20260307T235650Z
UID:24293-1772478000-1772485200@afd-oberbayern.de
SUMMARY:Infoabend AfD-Kreisverband München-Ost
DESCRIPTION:Der AfD-Kreisverband München-Ost lädt Sie herzlichst um nächsten Infoabend ein. \nEs werden reden unsere derzeitigen Stadträte im Münchner Rathaus Markus Walbrunn\, Iris Wassill und Daniel Stanke\, sowie die  Stadtratskandidaten Christian Christoph\, Manuela Albracht und Dr. Peter Reich. Im Anschluss wird wieder eine offene Diskussion stattfinden. \nWillkommen sind auch AfD-Sympathisanten\, die noch keine Mitglieder sind.\nBei Interesse an einer Teilnahme bitte über den folgenden Link anmelden:\nhttp://alternative-infos.de/index.php?w=ee&z=109F8bb1P7Dl \n 
URL:https://afd-oberbayern.de/veranstaltungen/infoabend-afd-kreisverband-muenchen-ost/
CATEGORIES:Veranstaltungen
ATTACH;FMTTYPE=image/jpeg:https://afd-oberbayern.de/wp-content/uploads/2026/03/2026-03-02-Muenchen-Ost.jpg
END:VEVENT
BEGIN:VEVENT
DTSTART;TZID=Europe/Berlin:20260227T190000
DTEND;TZID=Europe/Berlin:20260227T210000
DTSTAMP:20260424T132624
CREATED:20260307T224629Z
LAST-MODIFIED:20260307T224629Z
UID:24266-1772218800-1772226000@afd-oberbayern.de
SUMMARY:Vortrags- und Diskussionsabend "Neue Perspektiven für den Landkreis"
DESCRIPTION:Vortrags- und Diskussionsabend „Neue Perspektiven für den Landkreis“\nmit Andreas Winhart\, MdL\, Landratskandidat\nund den Kreistags- und Stadtratskandidaten
URL:https://afd-oberbayern.de/veranstaltungen/vortrags-und-diskussionsabend-neue-perspektiven-fuer-den-landkreis/
CATEGORIES:Veranstaltungen
ATTACH;FMTTYPE=image/jpeg:https://afd-oberbayern.de/wp-content/uploads/2026/03/Bruckmuehl-27.02.jpg
END:VEVENT
BEGIN:VEVENT
DTSTART;TZID=Europe/Berlin:20260225T190000
DTEND;TZID=Europe/Berlin:20260225T213000
DTSTAMP:20260424T132624
CREATED:20260215T161202Z
LAST-MODIFIED:20260227T162129Z
UID:24258-1772046000-1772055000@afd-oberbayern.de
SUMMARY:Vortrags- und Diskussionsabend "Die Zukunft der Stadt Kolbermoor"
DESCRIPTION:Vortrags- und Diskussionsabend „Neue Perspektiven für den Landkreis“\nmit Andreas Winhart\, MdL\, Landratskandidat\nund den Kreistags- und Stadtratskandidaten \nWilling Kacheln – 6
URL:https://afd-oberbayern.de/veranstaltungen/vortrags-und-diskussionsabend-die-zukunft-der-stadt-kolbermoor/
ATTACH;FMTTYPE=image/jpeg:https://afd-oberbayern.de/wp-content/uploads/2026/02/Rosenheim-25.02.jpg
END:VEVENT
BEGIN:VEVENT
DTSTART;TZID=Europe/Berlin:20260221T190000
DTEND;TZID=Europe/Berlin:20260221T210000
DTSTAMP:20260424T132624
CREATED:20260307T225944Z
LAST-MODIFIED:20260307T225944Z
UID:24272-1771700400-1771707600@afd-oberbayern.de
SUMMARY:Diskussionsveranstaltung "Heimat - aber sicher!" des AfD-Kreisverbands Ebersberg
DESCRIPTION:Dr. Christoph Birghan ist Patentanwalt in München\, Sprecher des Kreisverbandes Ebersberg\, Mitglied des Deutschen Bundestags und Landratskandidat im Landkreis Ebersberg. \nDer Gymnasiallehrer Joachim Paul erlangte vor wenigen Monaten besondere Bekanntheit\, als ihn die politische Konkurrenz\, unter Instrumentalisierung des Inlandsgeheimdienstes\, von der Wahl für den Oberbürgermeister von Ludwigshafen ausschloss. Ein einmaliger Skandal in der Geschichte der Bundesrepublik\, weshalb er sogar im Weißen Haus empfangen wurde. \nDer Polizeibeamte Steffen Janich ist ordentliches Mitglied im Ausschuss für Inneres und Heimat und stellvertretendes Mitglied im Ausschuss für Ernährung und Landwirtschaft und im Ausschuss für Digitales. \nIm Anschluss findet eine Podiumsdiskussion statt\, an der auch das Publikum durch Fragen aktiv teilnehmen kann. Ziel des Abends ist es\, einen offenen Austausch zu ermöglichen und unterschiedliche Perspektiven gemeinsam zu erörtern.
URL:https://afd-oberbayern.de/veranstaltungen/diskussionsveranstaltung-heimat-aber-sicher-des-afd-kreisverbands-ebersberg/
CATEGORIES:Veranstaltungen
ATTACH;FMTTYPE=image/jpeg:https://afd-oberbayern.de/wp-content/uploads/2026/03/Hohenlinden-21.02.jpg
END:VEVENT
BEGIN:VEVENT
DTSTART;TZID=Europe/Berlin:20260220T190000
DTEND;TZID=Europe/Berlin:20260220T210000
DTSTAMP:20260424T132624
CREATED:20260307T230259Z
LAST-MODIFIED:20260307T231011Z
UID:24276-1771614000-1771621200@afd-oberbayern.de
SUMMARY:Veranstaltung des AfD-Kreisverbands Starnberg zur Kommunalwahl:  Bayern zuerst!
DESCRIPTION:Veranstaltung des AfD-Kreisverbands Starnberg zur Kommunalwahl:  Bayern zuerst!\n… mit:\nStephan Brandner\, MdB\nRobert Sesselmann\, Landrat\nStephan Protschka\, MdB\nKatrin Ebner-Steiner\, MdL\nProf. Dr. Ingo Hahn\, MdB und\nRoman Sonnenberg\, Landratskandidat \nAufbruch – Wir retten Deutschland!
URL:https://afd-oberbayern.de/veranstaltungen/veranstaltung-des-afd-kreisverbands-starnberg-zur-kommunalwahl-bayern-zuerst/
CATEGORIES:Veranstaltungen
ATTACH;FMTTYPE=image/jpeg:https://afd-oberbayern.de/wp-content/uploads/2026/03/Starnberg-20.02.jpg
END:VEVENT
BEGIN:VEVENT
DTSTART;TZID=Europe/Berlin:20251214T080000
DTEND;TZID=Europe/Berlin:20251214T180000
DTSTAMP:20260424T132624
CREATED:20251214T093721Z
LAST-MODIFIED:20260129T093858Z
UID:24043-1765699200-1765735200@afd-oberbayern.de
SUMMARY:Weihnachtsfeier im Berchtesgadener Land am 14.12.2025
DESCRIPTION:Weihnachtsfeier mit dem Bundestagsabgeordneten Dr. Christoph Birghan und dem Landtagsabgeordneten Andreas Winhart
URL:https://afd-oberbayern.de/veranstaltungen/weihnachtsfeier-im-berchtesgadener-land-am-14-12-2025/
CATEGORIES:Veranstaltungen
ATTACH;FMTTYPE=image/jpeg:https://afd-oberbayern.de/wp-content/uploads/2026/01/xmas-14.12.jpg
END:VEVENT
BEGIN:VEVENT
DTSTART;TZID=Europe/Berlin:20251213T183000
DTEND;TZID=Europe/Berlin:20251213T220000
DTSTAMP:20260424T132624
CREATED:20251214T093514Z
LAST-MODIFIED:20260130T093508Z
UID:17852-1765650600-1765663200@afd-oberbayern.de
SUMMARY:Newsletter IV / 2025
DESCRIPTION:Newsletter IV / 2025\n\nIn unserem letzten Rundbrief dieses Jahres dürfen wir Sie wieder über die aktuelle Arbeit unserer oberbayerischen Mandatsträger informieren. Der Block der Altparteien will die AfD in den Parlamenten isolieren und von politischer Teilhabe ausschließen. Schon jetzt sehen wir: Dieser Plan geht nicht auf. Auch wenn wir noch nicht in Regierungsverantwortung sind\, bringt unsere parlamentarische Arbeit bereits jetzt viele gute Früchte. Die Beiträge dieses Rundbriefs (siehe PDF-Anhang) berichten Ihnen von den positiven Entwicklungen\, die wir anstoßen. – Für eine optimale Wiedergabe schalten Sie in Ihrem E-Mail-Programm bitte die Anzeige von Bildern ein: \n\n\n\n\nDonald Trumps neuer Friedensplan ist für uns alle ein Zeichen der Hoffnung. Petr Bystron (MdEP) zeigt auf\, dass dieser Plan im Kern mit dem Friedenspaket übereinstimmt\, dass die AfD bereits im Jahr 2023 im Deutschen Bundestag vorgelegt hatte.\n\n\n\nLukas Rehm (MdB) ist mit seiner ersten Bundestagsrede ein fulminanter Aufschlag gelungen. Sein Bericht erklärt die Hintergründe seines Redebeitrags zur Rentenversicherung.\n\n\n\nOskar Lipps (MdL) Anfragen haben den Stein zur Aufklärung des Weimer-Skandals ins Rollen gebracht. In seinem Artikel skizziert er das Ausmaß der Affäre.\n\n\n\nSozialstaat und Föderalismus leiden heute unter massiven Missständen. Bezirksrat Dr. Tassilo Erhardt veranschaulicht die Problematiken auf der Bezirksebene und fordert eine konsequente Rückkehr zum Konnexitätsprinzip („wer bestellt\, bezahlt“) für einen funktionsfähigen Föderalismus.\n\n\n\nBis vor wenigen Jahren strahlten Christkindlmärkte eine zauberhafte Atmosphäre und die Vorfreude auf Weihnachten aus. Markus Walbrunn (MdL und e.a. Stadtrat in München) fordert\, dass die Wohlfühlstimmung wieder in die Weihnachtsmärkte zurückkehrt; sie dürfen sich nicht in Festungen verwandeln.
URL:https://afd-oberbayern.de/veranstaltungen/peter-boehringer-kommt-nach-landsberg/
CATEGORIES:Veranstaltungen
ATTACH;FMTTYPE=image/png:https://afd-oberbayern.de/wp-content/uploads/2026/01/Newsletter-4-2025.png
END:VEVENT
BEGIN:VEVENT
DTSTART;TZID=Europe/Berlin:20251213T080000
DTEND;TZID=Europe/Berlin:20251213T180000
DTSTAMP:20260424T132624
CREATED:20251213T070035Z
LAST-MODIFIED:20260129T094035Z
UID:24046-1765612800-1765648800@afd-oberbayern.de
SUMMARY:Weihnachtsmarkt des Kreisverbands München-Ost am 13.12.2025
DESCRIPTION:Weihnachtsmarkt des Kreisverbands München-Ost auf dem Gelände vor dem Blauen Haus. \nSie können sich auf Glühwein\, Gegrilltes und Gebäck freuen. Zum Abschluss des Jahres und zum Start in die besinnliche Zeit sind Sie herzlich eingeladen\, bei Lagerfeueridylle die Weihnachtszeit einzuläuten. \nZudem wird der Veranstaltungsraum feierlich eröffnet\, der spätestens ab der zweiten Dezemberwoche wieder nutzbar sein wird. \nBei Interesse bitte über den folgenden Link anmelden:\nhttp://alternative-infos.de/index.php?w=ee&z=107F3VuBqgax
URL:https://afd-oberbayern.de/veranstaltungen/weihnachtsmarkt-des-kreisverbands-muenchen-ost-am-13-12-2025/
CATEGORIES:Veranstaltungen
ATTACH;FMTTYPE=image/jpeg:https://afd-oberbayern.de/wp-content/uploads/2025/12/Xmas-13.12.jpg
END:VEVENT
BEGIN:VEVENT
DTSTART;TZID=Europe/Berlin:20251211T080000
DTEND;TZID=Europe/Berlin:20251211T180000
DTSTAMP:20260424T132624
CREATED:20251211T070057Z
LAST-MODIFIED:20260130T093624Z
UID:24049-1765440000-1765476000@afd-oberbayern.de
SUMMARY:Bürgerdialog der AfD-Fraktion mit Gerald Grosz am 11.12.2025
DESCRIPTION:Bürgerdialog der AfD-Fraktion im Bayerischen Landtag mit Gastreder Gerald Grosz.\nKatrin Ebner-Steiner und weitere Abgeordnete werden Sie vor Ort über die Arbeit der AfD im Bayerischen Landtag informieren.
URL:https://afd-oberbayern.de/veranstaltungen/buergerdialog-der-afd-fraktion-mit-gerald-grosz-am-11-12-2025/
CATEGORIES:Veranstaltungen
ATTACH;FMTTYPE=image/jpeg:https://afd-oberbayern.de/wp-content/uploads/2026/12/Eichstaett-11.12.jpg
END:VEVENT
BEGIN:VEVENT
DTSTART;TZID=Europe/Berlin:20251208T080000
DTEND;TZID=Europe/Berlin:20251208T180000
DTSTAMP:20260424T132624
CREATED:20251208T070036Z
LAST-MODIFIED:20260129T094330Z
UID:24052-1765180800-1765216800@afd-oberbayern.de
SUMMARY:Filmabend „Die Feuerzangenbowle“ in Weilheim am 08.12.2025
DESCRIPTION:Filmabend des AfD-Kreisverbands Weilheim-Schongau: „Die Feuerzangenbowle“ – Heinz Rühmanns unsterbliche Komödie auf der großen Leinwand. \nWir tun das nicht trotz\, sondern gerade wegen der aktuellen Aberkennung der SPIO-Ehrenmedaille für Heinz Rühmann und andere Filmgrößen. Dieser Film ist ein Stück deutscher Filmgeschichte\, ein Publikumsliebling von gestern bis heute. Ein kulturelles Gut\, das sich nicht nachträglich „entwerten“ lässt\, nur weil manche heute glauben\, die Vergangenheit mit Symbolgesten bereinigen zu müssen. \nPassend zu dem Filmklassiker wird es vor Ort auch Feuerzangenbowle geben.\nAnschließend Gespräch in lockerer Runde mit Benjamin Nolte\, MdL über die linke „Cancel Culture“ und geeignete Gegenmaßnahmen.\nWir feiern mit dieser Vorführung die Freiheit des Lachens und die Kunst\, die über Ideologien steht.
URL:https://afd-oberbayern.de/veranstaltungen/filmabend-die-feuerzangenbowle-in-weilheim-am-08-12-2025/
CATEGORIES:Veranstaltungen
ATTACH;FMTTYPE=image/jpeg:https://afd-oberbayern.de/wp-content/uploads/2025/11/Feuerz.-08.12.jpg
END:VEVENT
BEGIN:VEVENT
DTSTART;TZID=Europe/Berlin:20251204T080000
DTEND;TZID=Europe/Berlin:20251204T180000
DTSTAMP:20260424T132624
CREATED:20251204T070043Z
LAST-MODIFIED:20260129T094536Z
UID:24056-1764835200-1764871200@afd-oberbayern.de
SUMMARY:„Syrien ist sicher!“ MdL Franz Schmid am 04.12.2025
DESCRIPTION:Der Landtagsabgeordnete Franz Schmid wird einen spannenden Vortrag zu seiner vor wenigen Wochen erfolgten Reise nach Syrien halten. Mehr als eine Millionen syrische Flüchtlinge kamen seit 2015 nach Deutschland. Als Grund wurde der frühere Machthaber Assad benannt. Dieser ist nun weg. Wie ist inzwischen die Lage in Syrien? Können Rückführungen erfolgen? Antworten darauf erhalten Sie auf diesem Infoabend des AfD-Kreisverbands München-Ost. \nIm Anschluss folgt wie gewohnt eine offene Diskussionsrunde.\nBei Interesse melden Sie sich bitte über den folgenden Link an:\nhttp://alternative-infos.de/index.php?w=ee&z=106FKis7SH33\nDer Veranstaltungsort wird spätestens am Tag vor der Veranstaltung per E-Mail mitgeteilt.
URL:https://afd-oberbayern.de/veranstaltungen/syrien-ist-sicher-mdl-franz-schmid-am-04-12-2025/
CATEGORIES:Veranstaltungen
ATTACH;FMTTYPE=image/jpeg:https://afd-oberbayern.de/wp-content/uploads/2025/11/FS-04.12.jpg
END:VEVENT
BEGIN:VEVENT
DTSTART;TZID=Europe/Berlin:20251202T080000
DTEND;TZID=Europe/Berlin:20251202T180000
DTSTAMP:20260424T132624
CREATED:20251202T070040Z
LAST-MODIFIED:20260129T094636Z
UID:24059-1764662400-1764698400@afd-oberbayern.de
SUMMARY:Europapolitischer Abend der ESN-Fraktion am 02.12.2025
DESCRIPTION:Die ESN-Fraktion lädt Sie herzlich am 02. Dezember 2025 um 19:00 Uhr zu einem europapolitischen Abend im Münchener Hofbräukeller ein. \nEs erwartet Sie ein spannender Abend mit bekannten Rednern aus der Europa- und Landespolitik. Freuen Sie sich auf René Aust (MdEP)\, Markus Buchheit (MdEP)\, Markus Walbrunn (MdL) und Katrin Ebner-Steiner (MdL). \nFür Speisen und Getränke ist gesorgt.
URL:https://afd-oberbayern.de/veranstaltungen/europapolitischer-abend-der-esn-fraktion-am-02-12-2025/
CATEGORIES:Veranstaltungen
ATTACH;FMTTYPE=image/jpeg:https://afd-oberbayern.de/wp-content/uploads/2026/11/ESN-02.12.jpg
END:VEVENT
BEGIN:VEVENT
DTSTART;TZID=Europe/Berlin:20251129T080000
DTEND;TZID=Europe/Berlin:20251129T180000
DTSTAMP:20260424T132624
CREATED:20251129T070045Z
LAST-MODIFIED:20260129T094745Z
UID:24062-1764403200-1764439200@afd-oberbayern.de
SUMMARY:ESN-Fraktion: „Wie Brüssel uns das Leben schwer macht“ am 29.11.2025
DESCRIPTION:Stammtisch der ESN-Fraktion (Europa der souveränen Nationen) im EU-Parlament:\n„Wie uns Brüssel das Leben schwer macht“\, mit:\nMarkus Buchheit\, MdEP\nChristine Anderson\, MdEP\nChristoph Birghan\, MdB
URL:https://afd-oberbayern.de/veranstaltungen/esn-fraktion-wie-bruessel-uns-das-leben-schwer-macht-am-29-11-2025/
CATEGORIES:Veranstaltungen
ATTACH;FMTTYPE=image/jpeg:https://afd-oberbayern.de/wp-content/uploads/2025/11/ESN-29.11.-ED.jpg
END:VEVENT
BEGIN:VEVENT
DTSTART;TZID=Europe/Berlin:20251124T080000
DTEND;TZID=Europe/Berlin:20251124T180000
DTSTAMP:20260424T132624
CREATED:20251124T070058Z
LAST-MODIFIED:20260129T094843Z
UID:24066-1763971200-1764007200@afd-oberbayern.de
SUMMARY:„Möglichkeiten patriotischer Politik“ mit MdL Richard Graupner am 24.11.2025
DESCRIPTION:Bürgerdialog des AfD-Kreisverbands Weilheim-Schongau mit Richard Graupner\, MdL:\n„Möglichkeiten patriotischer Politik – Erfahrungen\, Visionen und Impulse für eine Heimat mit Zukunft“
URL:https://afd-oberbayern.de/veranstaltungen/moeglichkeiten-patriotischer-politik-mit-mdl-richard-graupner-am-24-11-2025/
CATEGORIES:Veranstaltungen
ATTACH;FMTTYPE=image/jpeg:https://afd-oberbayern.de/wp-content/uploads/2025/11/Weilheim-24.11.jpg
END:VEVENT
BEGIN:VEVENT
DTSTART;TZID=Europe/Berlin:20251119T080000
DTEND;TZID=Europe/Berlin:20251119T180000
DTSTAMP:20260424T132624
CREATED:20251119T070000Z
LAST-MODIFIED:20260129T094959Z
UID:24069-1763539200-1763575200@afd-oberbayern.de
SUMMARY:Wahlkampfauftakt mit MdL Joachim Paul am 19.11.2025
DESCRIPTION:Der Betreiber des Bürgersaals Fürstenried (im Auftrag der Landeshauptstadt München)\, bei dem wir den Saal gebucht haben\, will der Münchner AfD allen Ernstes verbieten\, Herrn Joachim Paul\, MdL aus Rheinland-Pfalz\, im Bürgersaal in Fürstenried auftreten zu lassen. Eine solche himmelschreiende Einschränkung der politischen Freiheit lassen wir uns natürlich nicht einfach gefallen. Die Veranstaltung wird stattfinden. Auch der Münchner OB-Kandidat Markus Walbrunn MdL und die Spitzenkandidten für die Münchner Stadtratswahl werden sprechen. \nFür den Fall\, dass Joachim Paul tatsächlich des Hauses verwiesen wird\, erwägen die Veranstalter\, in unmittelbarer Nähe eine Kundgebung mit Joachim Paul als Hauptredner durchzuführen. Kommen Sie und zeigen Sie Ihre Solidarität!
URL:https://afd-oberbayern.de/veranstaltungen/wahlkampfauftakt-mit-mdl-joachim-paul-am-19-11-2025/
CATEGORIES:Veranstaltungen
ATTACH;FMTTYPE=image/jpeg:https://afd-oberbayern.de/wp-content/uploads/2026/11/M-Sued-19.11.jpg
END:VEVENT
END:VCALENDAR